BEGIN:VCALENDAR
PRODID:-//eluceo/ical//2.0/EN
VERSION:2.0
CALSCALE:GREGORIAN
BEGIN:VEVENT
UID:eeb0967f41f4c53c75c85a0a287c8a95
DTSTAMP:20260420T143232Z
SUMMARY:offen
DESCRIPTION:
URL:https://rotary-oerlikon.ch/de/agenda/show/114152
DTSTART;TZID=Europe/Zurich:20210520T120000
DTEND;TZID=Europe/Zurich:20210520T130000
LOCATION:Zoom-Konferenz
CATEGORIES:Rotary
END:VEVENT
BEGIN:VTIMEZONE
TZID:Europe/Zurich
BEGIN:DAYLIGHT
DTSTART:20210520T120000
TZNAME:CEST
TZOFFSETTO:+0200
TZOFFSETFROM:+0200
END:DAYLIGHT
END:VTIMEZONE
END:VCALENDAR
