BEGIN:VCALENDAR
PRODID:-//eluceo/ical//2.0/EN
VERSION:2.0
CALSCALE:GREGORIAN
BEGIN:VEVENT
UID:9680383df675d2b86f3484f9a5d8ae10
DTSTAMP:20260420T130614Z
SUMMARY:Dr. Severin Dressen - Zoo Zürich
DESCRIPTION:
URL:https://rotary-oerlikon.ch/de/agenda/show/114153
DTSTART;TZID=Europe/Zurich:20210527T120000
DTEND;TZID=Europe/Zurich:20210527T130000
LOCATION:Zoom-Konferenz
CATEGORIES:Rotary
END:VEVENT
BEGIN:VTIMEZONE
TZID:Europe/Zurich
BEGIN:DAYLIGHT
DTSTART:20210527T120000
TZNAME:CEST
TZOFFSETTO:+0200
TZOFFSETFROM:+0200
END:DAYLIGHT
END:VTIMEZONE
END:VCALENDAR
