BEGIN:VCALENDAR
PRODID:-//eluceo/ical//2.0/EN
VERSION:2.0
CALSCALE:GREGORIAN
BEGIN:VEVENT
UID:b6d9a388406ef902060cd3aab0152a65
DTSTAMP:20260423T120345Z
SUMMARY:Rega Jet Pilot (Marc Welti)
DESCRIPTION:Webseite: http://www.hotel-krone.ch\nReferenten/innen: Marc Wel
 ti
URL:https://rotary-oerlikon.ch/de/agenda/show/183029
DTSTART;TZID=Europe/Zurich:20240829T114500
DTEND;TZID=Europe/Zurich:20240829T140000
LOCATION:Hotel Krone Unterstrass\, Schaffhauserstr. 1\, 8006 Zürich
CATEGORIES:Rotary
END:VEVENT
BEGIN:VTIMEZONE
TZID:Europe/Zurich
BEGIN:DAYLIGHT
DTSTART:20240829T114500
TZNAME:CEST
TZOFFSETTO:+0200
TZOFFSETFROM:+0200
END:DAYLIGHT
END:VTIMEZONE
END:VCALENDAR
