BEGIN:VCALENDAR
PRODID:-//eluceo/ical//2.0/EN
VERSION:2.0
CALSCALE:GREGORIAN
BEGIN:VEVENT
UID:ca1efa3c712945a75274b9c008285a8e
DTSTAMP:20260423T103628Z
SUMMARY:Gesprächslunch
DESCRIPTION:Webseite: http://www.hotel-krone.ch\nReferenten/innen: 
URL:https://rotary-oerlikon.ch/de/agenda/show/184905
DTSTART;TZID=Europe/Zurich:20240905T114500
DTEND;TZID=Europe/Zurich:20240905T140000
LOCATION:Hotel Krone Unterstrass\, Schaffhauserstr. 1\, 8006 Zürich
CATEGORIES:Rotary
END:VEVENT
BEGIN:VTIMEZONE
TZID:Europe/Zurich
BEGIN:DAYLIGHT
DTSTART:20240905T114500
TZNAME:CEST
TZOFFSETTO:+0200
TZOFFSETFROM:+0200
END:DAYLIGHT
END:VTIMEZONE
END:VCALENDAR
