BEGIN:VCALENDAR
PRODID:-//eluceo/ical//2.0/EN
VERSION:2.0
CALSCALE:GREGORIAN
BEGIN:VEVENT
UID:640723d38f42f2becb9f3457935a0e58
DTSTAMP:20260423T104550Z
SUMMARY:Jahresversammlung RCO
DESCRIPTION:Website: http://www.hotel-krone.ch\nSpeaker(s): 
URL:https://rotary-oerlikon.ch/en/agenda/show/143871
DTSTART;TZID=Europe/Zurich:20221201T114500
DTEND;TZID=Europe/Zurich:20221201T140000
LOCATION:Hotel Krone Unterstrass\, Schaffhauserstr. 1\, 8006 Zürich
CATEGORIES:Rotary
END:VEVENT
BEGIN:VTIMEZONE
TZID:Europe/Zurich
BEGIN:STANDARD
DTSTART:20221201T114500
TZNAME:CET
TZOFFSETTO:+0100
TZOFFSETFROM:+0100
END:STANDARD
END:VTIMEZONE
END:VCALENDAR
