BEGIN:VCALENDAR
PRODID:-//eluceo/ical//2.0/EN
VERSION:2.0
CALSCALE:GREGORIAN
BEGIN:VEVENT
UID:07de5de6f7fcf09270e198a45f548bdb
DTSTAMP:20260423T015427Z
SUMMARY:Zita the Butler\, die einzige weibliche Butlerin - Zita Langenstein
DESCRIPTION:Website: http://www.hotel-krone.ch
URL:https://rotary-oerlikon.ch/en/agenda/show/189751
DTSTART;TZID=Europe/Zurich:20250410T114500
DTEND;TZID=Europe/Zurich:20250410T140000
LOCATION:Hotel Krone Unterstrass\, Schaffhauserstr. 1\, 8006 Zürich
CATEGORIES:Rotary
END:VEVENT
BEGIN:VTIMEZONE
TZID:Europe/Zurich
BEGIN:DAYLIGHT
DTSTART:20250410T114500
TZNAME:CEST
TZOFFSETTO:+0200
TZOFFSETFROM:+0200
END:DAYLIGHT
END:VTIMEZONE
END:VCALENDAR
