BEGIN:VCALENDAR
PRODID:-//eluceo/ical//2.0/EN
VERSION:2.0
CALSCALE:GREGORIAN
BEGIN:VEVENT
UID:7b9dc9bb9f54862d9878d3086866c3d0
DTSTAMP:20260419T183047Z
SUMMARY:Schweizer Herzstiftung (Dr. Robert Keller)
DESCRIPTION:Sitio web: http://www.hotel-krone.ch\nOrador(es): Dr. Robert Ke
 ller\, Schweizer Herzstiftung
URL:https://rotary-oerlikon.ch/es/agenda/show/183033
DTSTART;TZID=Europe/Zurich:20240919T114500
DTEND;TZID=Europe/Zurich:20240919T140000
LOCATION:Hotel Krone Unterstrass\, Schaffhauserstr. 1\, 8006 Zürich
CATEGORIES:Rotary
END:VEVENT
BEGIN:VTIMEZONE
TZID:Europe/Zurich
BEGIN:DAYLIGHT
DTSTART:20240919T114500
TZNAME:CEST
TZOFFSETTO:+0200
TZOFFSETFROM:+0200
END:DAYLIGHT
END:VTIMEZONE
END:VCALENDAR
