BEGIN:VCALENDAR
PRODID:-//eluceo/ical//2.0/EN
VERSION:2.0
CALSCALE:GREGORIAN
BEGIN:VEVENT
UID:6fe11e800925063845c81eadac201dbe
DTSTAMP:20260421T082518Z
SUMMARY:Abendveranstaltung - ICC Kongress
DESCRIPTION:Sitio web: http://www.hotel-krone.ch\nOrador(es): 
URL:https://rotary-oerlikon.ch/es/agenda/show/183034
DTSTART;TZID=Europe/Zurich:20240926T180000
DTEND;TZID=Europe/Zurich:20240926T220000
LOCATION:Hotel Krone Unterstrass\, Schaffhauserstr. 1\, 8006 Zürich
CATEGORIES:Rotary
END:VEVENT
BEGIN:VTIMEZONE
TZID:Europe/Zurich
BEGIN:DAYLIGHT
DTSTART:20240926T180000
TZNAME:CEST
TZOFFSETTO:+0200
TZOFFSETFROM:+0200
END:DAYLIGHT
END:VTIMEZONE
END:VCALENDAR
