BEGIN:VCALENDAR
PRODID:-//eluceo/ical//2.0/EN
VERSION:2.0
CALSCALE:GREGORIAN
BEGIN:VEVENT
UID:b1c0e34c244eccf99337b3aed8dac74c
DTSTAMP:20260421T122750Z
SUMMARY:Sozialwerke Sieber (Friederike Rass)
DESCRIPTION:Sitio web: http://www.hotel-krone.ch\nOrador(es): Friederike Ra
 ss
URL:https://rotary-oerlikon.ch/es/agenda/show/183038
DTSTART;TZID=Europe/Zurich:20241024T114500
DTEND;TZID=Europe/Zurich:20241024T140000
LOCATION:Hotel Krone Unterstrass\, Schaffhauserstr. 1\, 8006 Zürich
CATEGORIES:Rotary
END:VEVENT
BEGIN:VTIMEZONE
TZID:Europe/Zurich
BEGIN:DAYLIGHT
DTSTART:20241024T114500
TZNAME:CEST
TZOFFSETTO:+0200
TZOFFSETFROM:+0200
END:DAYLIGHT
END:VTIMEZONE
END:VCALENDAR
