BEGIN:VCALENDAR
PRODID:-//eluceo/ical//2.0/EN
VERSION:2.0
CALSCALE:GREGORIAN
BEGIN:VEVENT
UID:b9e381a6575d890f21180e429f46ceec
DTSTAMP:20260423T085929Z
SUMMARY:Ist persönliche Versicherungsberatung im digitalen Zeitalter noch 
 zeitgemäss? (Louis Hotz)
DESCRIPTION:Sitio web: http://www.hotel-krone.ch\nOrador(es): Louis Hotz\,
  Leiter VISANA Privatkunden für die Deutschschweiz
URL:https://rotary-oerlikon.ch/es/agenda/show/183039
DTSTART;TZID=Europe/Zurich:20241031T114500
DTEND;TZID=Europe/Zurich:20241031T140000
LOCATION:Hotel Krone Unterstrass\, Schaffhauserstr. 1\, 8006 Zürich
CATEGORIES:Rotary
END:VEVENT
BEGIN:VTIMEZONE
TZID:Europe/Zurich
BEGIN:STANDARD
DTSTART:20241031T114500
TZNAME:CET
TZOFFSETTO:+0100
TZOFFSETFROM:+0100
END:STANDARD
END:VTIMEZONE
END:VCALENDAR
