BEGIN:VCALENDAR
PRODID:-//eluceo/ical//2.0/EN
VERSION:2.0
CALSCALE:GREGORIAN
BEGIN:VEVENT
UID:0ce5639b5b3e3dcb78309210c462b142
DTSTAMP:20260422T075447Z
SUMMARY:Kloten nach dem 2. Swiss „Air“ grounding
DESCRIPTION:Site internet: http://www.hotel-krone.ch\nConférencier(s): Ren
 é Huber
URL:https://rotary-oerlikon.ch/fr/agenda/show/134717
DTSTART;TZID=Europe/Zurich:20220203T114500
DTEND;TZID=Europe/Zurich:20220203T140000
LOCATION:Hotel Krone Unterstrass\, Schaffhauserstr. 1\, 8006 Zürich
CATEGORIES:Rotary
END:VEVENT
BEGIN:VTIMEZONE
TZID:Europe/Zurich
BEGIN:STANDARD
DTSTART:20220203T114500
TZNAME:CET
TZOFFSETTO:+0100
TZOFFSETFROM:+0100
END:STANDARD
END:VTIMEZONE
END:VCALENDAR
