BEGIN:VCALENDAR
PRODID:-//eluceo/ical//2.0/EN
VERSION:2.0
CALSCALE:GREGORIAN
BEGIN:VEVENT
UID:d830192e267474c0f52e9552e54ce77b
DTSTAMP:20260422T055805Z
SUMMARY:Gesprächslunch
DESCRIPTION:Site internet: http://www.hotel-krone.ch
URL:https://rotary-oerlikon.ch/fr/agenda/show/134719
DTSTART;TZID=Europe/Zurich:20220217T114500
DTEND;TZID=Europe/Zurich:20220217T140000
LOCATION:Hotel Krone Unterstrass\, Schaffhauserstr. 1\, 8006 Zürich
CATEGORIES:Rotary
END:VEVENT
BEGIN:VTIMEZONE
TZID:Europe/Zurich
BEGIN:STANDARD
DTSTART:20220217T114500
TZNAME:CET
TZOFFSETTO:+0100
TZOFFSETFROM:+0100
END:STANDARD
END:VTIMEZONE
END:VCALENDAR
