BEGIN:VCALENDAR
PRODID:-//eluceo/ical//2.0/EN
VERSION:2.0
CALSCALE:GREGORIAN
BEGIN:VEVENT
UID:571de20f64eda11665fef555bb7fb979
DTSTAMP:20260424T093329Z
SUMMARY:H2 Energy
DESCRIPTION:Site internet: http://www.hotel-krone.ch\nConférencier(s): Pat
 rick Huber
URL:https://rotary-oerlikon.ch/fr/agenda/show/134721
DTSTART;TZID=Europe/Zurich:20220303T114500
DTEND;TZID=Europe/Zurich:20220303T140000
LOCATION:Hotel Krone Unterstrass\, Schaffhauserstr. 1\, 8006 Zürich
CATEGORIES:Rotary
END:VEVENT
BEGIN:VTIMEZONE
TZID:Europe/Zurich
BEGIN:STANDARD
DTSTART:20220303T114500
TZNAME:CET
TZOFFSETTO:+0100
TZOFFSETFROM:+0100
END:STANDARD
END:VTIMEZONE
END:VCALENDAR
