BEGIN:VCALENDAR
PRODID:-//eluceo/ical//2.0/EN
VERSION:2.0
CALSCALE:GREGORIAN
BEGIN:VEVENT
UID:c69d7a18103e7c5405e700410609dd31
DTSTAMP:20260422T041429Z
SUMMARY:Abendveranstaltung im Theater Rigiblick
DESCRIPTION:
URL:https://rotary-oerlikon.ch/fr/agenda/show/134727
DTSTART;TZID=Europe/Zurich:20220405T180000
DTEND;TZID=Europe/Zurich:20220405T233000
LOCATION:Theater Rigiblick
CATEGORIES:Rotary
END:VEVENT
BEGIN:VTIMEZONE
TZID:Europe/Zurich
BEGIN:DAYLIGHT
DTSTART:20220405T180000
TZNAME:CEST
TZOFFSETTO:+0200
TZOFFSETFROM:+0200
END:DAYLIGHT
END:VTIMEZONE
END:VCALENDAR
