BEGIN:VCALENDAR
PRODID:-//eluceo/ical//2.0/EN
VERSION:2.0
CALSCALE:GREGORIAN
BEGIN:VEVENT
UID:2cccebcf7eda1fe7c8cbe9ae17281a61
DTSTAMP:20260422T055544Z
SUMMARY:Michael Baumer: Stadtzürcher Energieversorgung zwischen Versorgung
 ssicherheit und Herausforderung "Netto-Null"
DESCRIPTION:Site internet: http://www.hotel-krone.ch\nConférencier(s): Rot
 . und Stadtrat Michael Baumer
URL:https://rotary-oerlikon.ch/fr/agenda/show/134732
DTSTART;TZID=Europe/Zurich:20220428T114500
DTEND;TZID=Europe/Zurich:20220428T140000
LOCATION:Hotel Krone Unterstrass\, Schaffhauserstr. 1\, 8006 Zürich
CATEGORIES:Rotary
END:VEVENT
BEGIN:VTIMEZONE
TZID:Europe/Zurich
BEGIN:DAYLIGHT
DTSTART:20220428T114500
TZNAME:CEST
TZOFFSETTO:+0200
TZOFFSETFROM:+0200
END:DAYLIGHT
END:VTIMEZONE
END:VCALENDAR
