BEGIN:VCALENDAR
PRODID:-//eluceo/ical//2.0/EN
VERSION:2.0
CALSCALE:GREGORIAN
BEGIN:VEVENT
UID:b5b0fc29596de8f4a1def64017c83a39
DTSTAMP:20260422T055211Z
SUMMARY:Reise ins Burgund
DESCRIPTION:
URL:https://rotary-oerlikon.ch/fr/agenda/show/134733
DTSTART;TZID=Europe/Zurich:20220429T060000
DTEND;TZID=Europe/Zurich:20220501T220000
LOCATION:Burgund
CATEGORIES:Rotary
END:VEVENT
BEGIN:VTIMEZONE
TZID:Europe/Zurich
BEGIN:DAYLIGHT
DTSTART:20220429T060000
TZNAME:CEST
TZOFFSETTO:+0200
TZOFFSETFROM:+0200
END:DAYLIGHT
END:VTIMEZONE
END:VCALENDAR
