BEGIN:VCALENDAR
PRODID:-//eluceo/ical//2.0/EN
VERSION:2.0
CALSCALE:GREGORIAN
BEGIN:VEVENT
UID:6c27db05e3d5c868a1b690c1c2dae2ef
DTSTAMP:20260422T035614Z
SUMMARY:Corona und der Schweizer Rechtsstaat - eine vorläufige Einordnung
DESCRIPTION:Site internet: http://www.hotel-krone.ch\nConférencier(s): Dr.
  jur. Patrice Zustieg\, ZHAW
URL:https://rotary-oerlikon.ch/fr/agenda/show/134734
DTSTART;TZID=Europe/Zurich:20220505T114500
DTEND;TZID=Europe/Zurich:20220505T140000
LOCATION:Hotel Krone Unterstrass\, Schaffhauserstr. 1\, 8006 Zürich
CATEGORIES:Rotary
END:VEVENT
BEGIN:VTIMEZONE
TZID:Europe/Zurich
BEGIN:DAYLIGHT
DTSTART:20220505T114500
TZNAME:CEST
TZOFFSETTO:+0200
TZOFFSETFROM:+0200
END:DAYLIGHT
END:VTIMEZONE
END:VCALENDAR
