BEGIN:VCALENDAR
PRODID:-//eluceo/ical//2.0/EN
VERSION:2.0
CALSCALE:GREGORIAN
BEGIN:VEVENT
UID:9f789700357a04ebb145fcf93ea840e4
DTSTAMP:20260422T052626Z
SUMMARY:Gesprächslunch
DESCRIPTION:Site internet: http://www.hotel-krone.ch\nConférencier(s): 
URL:https://rotary-oerlikon.ch/fr/agenda/show/134738
DTSTART;TZID=Europe/Zurich:20220512T114500
DTEND;TZID=Europe/Zurich:20220512T140000
LOCATION:Hotel Krone Unterstrass\, Schaffhauserstr. 1\, 8006 Zürich
CATEGORIES:Rotary
END:VEVENT
BEGIN:VTIMEZONE
TZID:Europe/Zurich
BEGIN:DAYLIGHT
DTSTART:20220512T114500
TZNAME:CEST
TZOFFSETTO:+0200
TZOFFSETFROM:+0200
END:DAYLIGHT
END:VTIMEZONE
END:VCALENDAR
