BEGIN:VCALENDAR
PRODID:-//eluceo/ical//2.0/EN
VERSION:2.0
CALSCALE:GREGORIAN
BEGIN:VEVENT
UID:f5c4ca33e66b29abb8e2fff899bd0111
DTSTAMP:20260424T090311Z
SUMMARY:Von Passion zu Passion (Prof. Jörg Auer)
DESCRIPTION:Site internet: http://www.hotel-krone.ch\nConférencier(s): Pro
 f. Jörg Auer\, Lenzburg
URL:https://rotary-oerlikon.ch/fr/agenda/show/143853
DTSTART;TZID=Europe/Zurich:20220804T114500
DTEND;TZID=Europe/Zurich:20220804T140000
LOCATION:Hotel Krone Unterstrass\, Schaffhauserstr. 1\, 8006 Zürich
CATEGORIES:Rotary
END:VEVENT
BEGIN:VTIMEZONE
TZID:Europe/Zurich
BEGIN:DAYLIGHT
DTSTART:20220804T114500
TZNAME:CEST
TZOFFSETTO:+0200
TZOFFSETFROM:+0200
END:DAYLIGHT
END:VTIMEZONE
END:VCALENDAR
