BEGIN:VCALENDAR
PRODID:-//eluceo/ical//2.0/EN
VERSION:2.0
CALSCALE:GREGORIAN
BEGIN:VEVENT
UID:d264c34966f2e0aa151bfe9cd47f35bd
DTSTAMP:20260422T011849Z
SUMMARY:Interview mit André Béchir
DESCRIPTION:Site internet: http://www.hotel-krone.ch\nConférencier(s): And
 ré Béchir\, Gadget abc Entertainment Group
URL:https://rotary-oerlikon.ch/fr/agenda/show/143856
DTSTART;TZID=Europe/Zurich:20220908T114500
DTEND;TZID=Europe/Zurich:20220908T140000
LOCATION:Hotel Krone Unterstrass\, Schaffhauserstr. 1\, 8006 Zürich
CATEGORIES:Rotary
END:VEVENT
BEGIN:VTIMEZONE
TZID:Europe/Zurich
BEGIN:DAYLIGHT
DTSTART:20220908T114500
TZNAME:CEST
TZOFFSETTO:+0200
TZOFFSETFROM:+0200
END:DAYLIGHT
END:VTIMEZONE
END:VCALENDAR
