BEGIN:VCALENDAR
PRODID:-//eluceo/ical//2.0/EN
VERSION:2.0
CALSCALE:GREGORIAN
BEGIN:VEVENT
UID:051bdef36a56073abb7b8baa7e53e4f9
DTSTAMP:20260424T005155Z
SUMMARY:Was ist Blockchain? Perspektiven & Beispiele (Dr. Christoph Schmidt
 )
DESCRIPTION:Site internet: http://www.hotel-krone.ch\nConférencier(s): Dr.
  Christoph Schmidt\, Oberassistent am Lehrstuhl für Logistik Management E
 TH Zurich
URL:https://rotary-oerlikon.ch/fr/agenda/show/143861
DTSTART;TZID=Europe/Zurich:20220922T114500
DTEND;TZID=Europe/Zurich:20220922T140000
LOCATION:Hotel Krone Unterstrass\, Schaffhauserstr. 1\, 8006 Zürich
CATEGORIES:Rotary
END:VEVENT
BEGIN:VTIMEZONE
TZID:Europe/Zurich
BEGIN:DAYLIGHT
DTSTART:20220922T114500
TZNAME:CEST
TZOFFSETTO:+0200
TZOFFSETFROM:+0200
END:DAYLIGHT
END:VTIMEZONE
END:VCALENDAR
