BEGIN:VCALENDAR
PRODID:-//eluceo/ical//2.0/EN
VERSION:2.0
CALSCALE:GREGORIAN
BEGIN:VEVENT
UID:37b2733bb67647f6e74eae187025f4e1
DTSTAMP:20260420T091551Z
SUMMARY:Architektur (genauer Titel folgt)
DESCRIPTION:12:15 Uhr\, Hotel Krone Unterstrass\nConférencier(s): Gus Wüs
 temann\nArchitects Wüstemann
URL:https://rotary-oerlikon.ch/fr/agenda/show/51222
DTSTART;TZID=Europe/Zurich:20151008T121500
DTEND;TZID=Europe/Zurich:20151008T121500
LOCATION:-
CATEGORIES:Rotary
END:VEVENT
BEGIN:VTIMEZONE
TZID:Europe/Zurich
BEGIN:DAYLIGHT
DTSTART:20151008T121500
TZNAME:CEST
TZOFFSETTO:+0200
TZOFFSETFROM:+0200
END:DAYLIGHT
END:VTIMEZONE
END:VCALENDAR
