BEGIN:VCALENDAR
PRODID:-//eluceo/ical//2.0/EN
VERSION:2.0
CALSCALE:GREGORIAN
BEGIN:VEVENT
UID:1694c0e41556359a1643edcb7ea624d7
DTSTAMP:20260423T152443Z
SUMMARY:Sozialsysteme in der CH und D\, ein Vergleich anhand der Renten- un
 d Krankenversicherungssysteme
DESCRIPTION:12:15 Uhr\, Hotel Krone Unterstrass\nConférencier(s): Dr. Chri
 stoph Wineken\nKardiologe in Oerlikon
URL:https://rotary-oerlikon.ch/fr/agenda/show/55630
DTSTART;TZID=Europe/Zurich:20151029T000000
DTEND;TZID=Europe/Zurich:20151029T000000
LOCATION:-
CATEGORIES:Rotary
END:VEVENT
BEGIN:VTIMEZONE
TZID:Europe/Zurich
BEGIN:STANDARD
DTSTART:20151029T000000
TZNAME:CET
TZOFFSETTO:+0100
TZOFFSETFROM:+0100
END:STANDARD
END:VTIMEZONE
END:VCALENDAR
