BEGIN:VCALENDAR
PRODID:-//eluceo/ical//2.0/EN
VERSION:2.0
CALSCALE:GREGORIAN
BEGIN:VEVENT
UID:c50642ff677948cf2f0008693420e607
DTSTAMP:20260423T172247Z
SUMMARY:Herausforderung im internationalen Markt der Bahntechnik
DESCRIPTION:12:15 Uhr\, Hotel Krone Unterstrass\nConférencier(s): Jürg Ke
 ssler\, Siemens
URL:https://rotary-oerlikon.ch/fr/agenda/show/55631
DTSTART;TZID=Europe/Zurich:20151105T000000
DTEND;TZID=Europe/Zurich:20151105T000000
LOCATION:-
CATEGORIES:Rotary
END:VEVENT
BEGIN:VTIMEZONE
TZID:Europe/Zurich
BEGIN:STANDARD
DTSTART:20151105T000000
TZNAME:CET
TZOFFSETTO:+0100
TZOFFSETFROM:+0100
END:STANDARD
END:VTIMEZONE
END:VCALENDAR
