BEGIN:VCALENDAR
PRODID:-//eluceo/ical//2.0/EN
VERSION:2.0
CALSCALE:GREGORIAN
BEGIN:VEVENT
UID:f571b4824a157b49c7cc31ab0d5e78b4
DTSTAMP:20260420T090958Z
SUMMARY:Rocket Holz Hochhaus\, vom Wettbewerb bis Stand heute (Beda Weber)
DESCRIPTION:Vefsíða: http://www.hotel-krone.ch\nFyrirlesari(ar): Beda Web
 er\, Implenia
URL:https://rotary-oerlikon.ch/is/agenda/show/183036
DTSTART;TZID=Europe/Zurich:20241010T114500
DTEND;TZID=Europe/Zurich:20241010T140000
LOCATION:Hotel Krone Unterstrass\, Schaffhauserstr. 1\, 8006 Zürich
CATEGORIES:Rotary
END:VEVENT
BEGIN:VTIMEZONE
TZID:Europe/Zurich
BEGIN:DAYLIGHT
DTSTART:20241010T114500
TZNAME:CEST
TZOFFSETTO:+0200
TZOFFSETFROM:+0200
END:DAYLIGHT
END:VTIMEZONE
END:VCALENDAR
