BEGIN:VCALENDAR
PRODID:-//eluceo/ical//2.0/EN
VERSION:2.0
CALSCALE:GREGORIAN
BEGIN:VEVENT
UID:f6728b64fae3655fcbdfcdd07c2b4e78
DTSTAMP:20260421T140447Z
SUMMARY:Synode im dualen System der römisch Kath. Kirche im Kanton Zürich
DESCRIPTION:Vefsíða: http://www.hotel-krone.ch\nFyrirlesari(ar): 
URL:https://rotary-oerlikon.ch/is/agenda/show/209051
DTSTART;TZID=Europe/Zurich:20260326T120000
DTEND;TZID=Europe/Zurich:20260326T140000
LOCATION:Hotel Krone Unterstrass\, Schaffhauserstr. 1\, 8006 Zürich
CATEGORIES:Rotary
END:VEVENT
BEGIN:VTIMEZONE
TZID:Europe/Zurich
BEGIN:STANDARD
DTSTART:20260326T120000
TZNAME:CET
TZOFFSETTO:+0100
TZOFFSETFROM:+0100
END:STANDARD
END:VTIMEZONE
END:VCALENDAR
