BEGIN:VCALENDAR
PRODID:-//eluceo/ical//2.0/EN
VERSION:2.0
CALSCALE:GREGORIAN
BEGIN:VEVENT
UID:a88db3a25bc745c22c957fc501499b12
DTSTAMP:20260423T103811Z
SUMMARY:"Live to work or work to live? No: Live and work!!" Neue Arbeitsfor
 men bei Microsoft Schweiz
DESCRIPTION:12:15 \,\nHotel Krone Unterstrass\nFyrirlesari(ar): Nicole Gass
 ler Schwengeler\, HR Lead Switzerland\, HR\, Microsoft\, Switzerland
URL:https://rotary-oerlikon.ch/is/agenda/show/27652
DTSTART;TZID=Europe/Zurich:20130425T000000
DTEND;TZID=Europe/Zurich:20130425T000000
LOCATION:-
CATEGORIES:Rotary
END:VEVENT
BEGIN:VTIMEZONE
TZID:Europe/Zurich
BEGIN:DAYLIGHT
DTSTART:20130425T000000
TZNAME:CEST
TZOFFSETTO:+0200
TZOFFSETFROM:+0200
END:DAYLIGHT
END:VTIMEZONE
END:VCALENDAR
