BEGIN:VCALENDAR
PRODID:-//eluceo/ical//2.0/EN
VERSION:2.0
CALSCALE:GREGORIAN
BEGIN:VEVENT
UID:24cf45183a07551f70cba15876e696b1
DTSTAMP:20260420T142941Z
SUMMARY:RCO Präsenzapéro Juni
DESCRIPTION:Sito web: https://www.sternenoerlikon.ch/restaurant-und-bar\nRe
 latore/i: 🍷 Präsenzapéro im Restaurant Ö – jeden 2. Dienstag im Mo
 nat📍 Wo: Restaurant Ö\, Oerlikon🕔 Wann: Jeden 2. Dienstag im Mo
 nat\, ab 17:00 Uhr bis ca. 20:00 Uhr🚶‍♀️ Flexibel: Kommt und ge
 ht\, wie’s Euch passt👕 Tenü: Locker und unkompliziert – ganz ent
 spannt💳 Konsumation: Ihr bestellt\, worauf Ihr Lust habt\, und bezahl
 t Eure Konsumation selbst
URL:https://rotary-oerlikon.ch/it/agenda/show/198840
DTSTART;TZID=Europe/Zurich:20260609T170000
DTEND;TZID=Europe/Zurich:20260609T200000
LOCATION:Restaurant Ö\, Hotel Sternen Oerlikon\, Schaffhauserstr. 335\, 80
 50 Zürich
CATEGORIES:Rotary
END:VEVENT
BEGIN:VTIMEZONE
TZID:Europe/Zurich
BEGIN:DAYLIGHT
DTSTART:20260609T170000
TZNAME:CEST
TZOFFSETTO:+0200
TZOFFSETFROM:+0200
END:DAYLIGHT
END:VTIMEZONE
END:VCALENDAR
