BEGIN:VCALENDAR
PRODID:-//eluceo/ical//2.0/EN
VERSION:2.0
CALSCALE:GREGORIAN
BEGIN:VEVENT
UID:8e8f0858350443cc324af7812ae69830
DTSTAMP:20260420T130201Z
SUMMARY:"Hands-on"-Projekt 2026
DESCRIPTION:Sito web: https://www.gehoerlosendorf.ch/stiftung-schloss-turbe
 nthal\nRelatore/i: Unser nächster Gemeindienst-Einsatz findet in Zusammen
 arbeit mit der Stiftung Schloss Turbenthal - Gehörlosendorf - statt. Gepl
 ant ist ein Hands-on-Projekt sowie eine oder mehrere interessante Führung
 en. Weitere Veranstaltungsangaben folgen zu einem späteren Zeitpunkt.Rich
 ard W. Späh\, Fredy Ruckstuhl & Heinz Wiedmer
URL:https://rotary-oerlikon.ch/it/agenda/show/203076
DTSTART;TZID=Europe/Zurich:20260605T120000
DTEND;TZID=Europe/Zurich:20260607T140000
LOCATION:Stiftung Schloss Turbenthal - Gehörlosendorf\, St. Gallerstrasse 
 8\, 8488 Turbenthal
CATEGORIES:Rotary
END:VEVENT
BEGIN:VTIMEZONE
TZID:Europe/Zurich
BEGIN:DAYLIGHT
DTSTART:20260605T120000
TZNAME:CEST
TZOFFSETTO:+0200
TZOFFSETFROM:+0200
END:DAYLIGHT
END:VTIMEZONE
END:VCALENDAR
