BEGIN:VCALENDAR
PRODID:-//eluceo/ical//2.0/EN
VERSION:2.0
CALSCALE:GREGORIAN
BEGIN:VEVENT
UID:be53f6975130f81424c9edc8a9fa4f3d
DTSTAMP:20260420T172855Z
SUMMARY:Google in der Schweiz - Anton Aschwanden
DESCRIPTION:Website: http://www.hotel-krone.ch\nSprekers: Anton Aschwanden\
 , Head of Government Affairs
URL:https://rotary-oerlikon.ch/nl/agenda/show/212226
DTSTART;TZID=Europe/Zurich:20260604T140000
DTEND;TZID=Europe/Zurich:20260604T140000
LOCATION:Hotel Krone Unterstrass\, Schaffhauserstr. 1\, 8006 Zürich
CATEGORIES:Rotary
END:VEVENT
BEGIN:VTIMEZONE
TZID:Europe/Zurich
BEGIN:DAYLIGHT
DTSTART:20260604T140000
TZNAME:CEST
TZOFFSETTO:+0200
TZOFFSETFROM:+0200
END:DAYLIGHT
END:VTIMEZONE
END:VCALENDAR
