BEGIN:VCALENDAR
PRODID:-//eluceo/ical//2.0/EN
VERSION:2.0
CALSCALE:GREGORIAN
BEGIN:VEVENT
UID:96cda5b2855bfda6e85eae9f4d5ae0e5
DTSTAMP:20260419T132814Z
SUMMARY:Mitgliederversammlung
DESCRIPTION:Hotel Krone\nTalare: Arthur Wettstein
URL:https://rotary-oerlikon.ch/sv/agenda/show/18382
DTSTART;TZID=Europe/Zurich:20110915T121500
DTEND;TZID=Europe/Zurich:20110915T121500
LOCATION:Hotel Krone Unterstrass
CATEGORIES:Rotary
END:VEVENT
BEGIN:VTIMEZONE
TZID:Europe/Zurich
BEGIN:DAYLIGHT
DTSTART:20110915T121500
TZNAME:CEST
TZOFFSETTO:+0200
TZOFFSETFROM:+0200
END:DAYLIGHT
END:VTIMEZONE
END:VCALENDAR
