BEGIN:VCALENDAR
PRODID:-//eluceo/ical//2.0/EN
VERSION:2.0
CALSCALE:GREGORIAN
BEGIN:VEVENT
UID:a135457ede09bb71c18efbce7e120cad
DTSTAMP:20260421T080135Z
SUMMARY:Markenkommunikation im Wandel
DESCRIPTION:12:15 \, Hotel Krone Unterstrass\nTalare: Urs Binggeli\, CEO un
 d Mitinhaber Wirz Corporate AG
URL:https://rotary-oerlikon.ch/sv/agenda/show/20075
DTSTART;TZID=Europe/Zurich:20111124T121500
DTEND;TZID=Europe/Zurich:20111124T121500
LOCATION:-
CATEGORIES:Rotary
END:VEVENT
BEGIN:VTIMEZONE
TZID:Europe/Zurich
BEGIN:STANDARD
DTSTART:20111124T121500
TZNAME:CET
TZOFFSETTO:+0100
TZOFFSETFROM:+0100
END:STANDARD
END:VTIMEZONE
END:VCALENDAR
